BEGIN:VCALENDAR
VERSION:2.0
PRODID:icalendar-ruby
CALSCALE:GREGORIAN
METHOD:PUBLISH
BEGIN:VEVENT
DTSTAMP:20260421T185511Z
UID:e6ed03ef-2aa7-4855-919a-106630703592
DTSTART:20260530T130000
DTEND:20260531T020000
DESCRIPTION:<p><strong>A social event bringing lovers and friends together 
 for a vibrant\, connection-filled experience\, with amazing DJs spinning R
 NB\, SOULFUL\, HOUSE\, and HIP HOP</strong><span>\, all at an amazing venu
 e.</span></p>
LOCATION:46 Main Street\, Klipriviersoog\, Chawielo 
SUMMARY:2nd Annual Loverz & Friendz Link-Up
URL;VALUE=URI:https://www.howler.co.za/LoverzandFriendzLinkup
END:VEVENT
END:VCALENDAR
