BEGIN:VCALENDAR
VERSION:2.0
PRODID:icalendar-ruby
CALSCALE:GREGORIAN
METHOD:PUBLISH
BEGIN:VEVENT
DTSTAMP:20260422T090301Z
UID:6c0dfd59-316b-4e06-b03d-3010480c494a
DTSTART:20261003T080000
DTEND:20261003T190000
DESCRIPTION:<p>Get ready to glow up and dive deeper into the world of skinc
 are - ladies \, bring your men with skincare has no gender \,mums bring yo
 ur tweens with \, bring your aunties and grannies with \, we’ve got some
 thing for everyone- .....</p><p><br></p><p>Welcome to A Skincare Affair\, 
 our first ever expo hosted by the biggest online community of skincare lov
 ers - Skincare Junkies South Africa!</p><p><br></p><p>Whether you’re a r
 eal skincare junkie ( you've scrolled our million posts and even used the 
 search button on our platform a few times OR you've become dash at doing y
 our 10 step skincare routine ) or a curious beginner looking to find your 
 perfect match\, this event is designed just for you.</p><p><br></p><p>We a
 re bridging the gap between your over flowing bathroom cabinets and the in
 dustry experts\, bringing together the most beloved local gems and interna
 tional powerhouses all under one roof.</p><p><br></p><p><u>What to Expect 
 at the Affair:</u></p><p><br></p><p><u>A variety of food and drink stalls 
 will be on site for the day \, we understand that snacks and skincare go h
 and in hand . ( we will have vegan and halaal friendly options too) </u></
 p><p><br></p><p>• Meet the Makers:</p><p>Go beyond the packaging. Have o
 ne-on-one conversations & skin analysis with the visionary founders and "f
 aces" behind your favorite brands \,learn the story and science behind the
  products. Shop your favourite products at great prices on the day aswell.
 </p><p><br></p><p>• Brand-LedTopic Talks:</p><p>Pull up a seat for exclu
 sive topic talks by brands. Get the facts on active ingredients\, debunk c
 ommon myths\, and learn how to manage your skin. Each brand gets the chan
 ce to present a mini masterclass on different topics \, details regarding 
 this and how to book your slot will be announced at a later stage.</p><p><
 br></p><p>Mini masterclass topics:</p><p><br></p><p><br></p><p>skin analys
 is machine - Find this at the Uriage Stand</p><p>yoga/ wellness outdoor ac
 tivity - TBA</p><p>scalp health - hosted by Valmo.</p><p><span style="colo
 r: rgb(0\, 0\, 0)\;">The power of shea butter\, cultural traditions in bea
 uty\, building a brand rooted in wellness and intention - Hosted by Saseki
 le Cosmetics </span></p><p>Purpose Driven Skincare - Hosted by Ona Mae</p>
 <p>Gut health & Skincare - TBA</p><p>Menopause & your skin - Hosted by Vit
 ant</p><p>Active skin ages faster - Hosted by Vitant</p><p>Laser Treatment
  - types of lasers/understanding how laser works - Hosted by Hi Tech laser
 s</p><p>Tween Skincare - TBA</p><p>The science behind skincare ingredients
  - Hosted by Skin Functional.</p><p><br></p><p>Make up masterclass-</p><p>
 Throwing shade - find your shade - hosted by Alila</p><p>The no makeup mak
 eup look hosted by Lumiglo.</p><p><br></p><p>Mens skincare & grooming</p><
 p><br></p><p>• Community Connection:</p><p>Mingle with a vibrant communi
 ty of fellow skincare junkies \, ask questions \, take notes.....</p><p>Th
 is isn't just an expo \, its another day of being a Skincare Junkie—it
 ’s a celebration\,an experience centered around humans who are learning 
 to love the skin they are in!  </p><p>Dress comfortably or dress up\, Gr
 ab your SPF\, bring your questions\, and prepare for a day of FUN.</p><p>W
 e can’t wait to meet you!</p><p><br></p><p><strong><u>Attendees can choo
 se to purchase product from exhibitors on the day .</u></strong></p><p><br
 ></p><p>Whose exhibiting on the day you might ask? take a look below ...</
 p><p><br></p><ul><li>Skin Functional</li><li>Alila Pro Makeup</li><li>Fund
 amentals Skincare</li><li>Lumi Glo</li><li>Activo 2 oxygenated skincare</l
 i><li>Ona Mae</li><li>Skin Scripts</li><li>Eucerin</li><li>Payot</li><li>B
 ionike</li><li>Uriage</li><li>Seoulful Skincare (korean Skincare )</li><li
 >Skin Colab - Bare addiction \, Erborian \, Farm Skin \, Geske \, Indeed \
 , innisfree \, kocostar \, laneige \, L'occitane \, mary & may \, molton b
 rown \, neogen \, pixi skincare \,skin proud.</li><li>Valmo Haircare</li><
 li>Create Beauty (korean skincare vendor)</li><li>Clere</li><li>seoul stud
 io ( korean skincare skin studio )</li><li>Hi tech lasers</li><li>this lis
 t is not final</li><li>attendees can expect to receive a goodie bag( each 
 goodie bag inludes product from exhibitors on the day aswell as product fr
 om the below sponsors) and stand the chance to win hampers and prizes thro
 ughout the day</li><li>Goodie bag product sponsors include Essence cosmeti
 cs\, Catrice Cosmetics\,Perspirex South Africa \,Gfrag wellness\, The Skin
 tist \, Derma TX </li></ul><p><br></p>
LOCATION:12-8 Incubation Drive\, Riverside View Ext 15\, Fourways\, Gauteng
 \, 2021
SUMMARY:A Skincare Affair - Skincare Junkies South Africa
URL;VALUE=URI:https://www.howler.co.za/SKJaffair
END:VEVENT
END:VCALENDAR
