BEGIN:VCALENDAR
VERSION:2.0
PRODID:icalendar-ruby
CALSCALE:GREGORIAN
METHOD:PUBLISH
BEGIN:VEVENT
DTSTAMP:20260421T190223Z
UID:3f858993-d6ff-4d8e-bcd7-0787fad09b4e
DTSTART:20260530T140000
DTEND:20260530T235900
DESCRIPTION:<p><strong>AMAPIANO FEST IS BACK – SATURDAY\, 30 May 2026!</s
 trong> </p><p>📍 <em>Cape Town</em> | <em>Bigger. Better. Bolder.</e
 m></p><p><br></p><p>🔥 <strong>What to Expect:</strong></p><ul><li><str
 ong>Your Favourite Artists</strong> – exciting lineup\, more energy\, mo
 re Amapiano!</li><li><strong>The return of our VIP experience</strong>\, p
 roudly presented by our event sponsors\, with luxury lounges\, premium bar
 \, and exclusive brand activations.</li><li><strong>Exciting new activatio
 ns for the General Area</strong> – more fun \, more photo ops\, and mor
 e ways to enjoy the Amapiano lifestyle.</li><li><strong>Delicious food sta
 lls</strong>\, refreshing cocktails\, and a crowd that knows how to party.
 </li></ul><p>🎟️ <strong>Tickets:</strong></p><ul><li><strong>Early B
 ird tickets</strong> are officially live – don’t wait\, they sold out
  fast last time!</li><li>Choose from <strong>General Access</strong>\, o
 r <strong>VIP.</strong></li><li>All tickets include access to the event an
 d live performances\, and activations.</li></ul><p>🕓 <strong>Event Det
 ails:</strong></p><ul><li><strong>Date:</strong> Saturday\, 25 April 2026
 </li><li><strong>Time:</strong> 14:00 – Late</li><li><strong>Venue:</st
 rong> Cape Town High School </li></ul><p><br></p><p><br></p><p><br></p>
LOCATION:115 Hatfield St\, Gardens\, Cape Town\, 8001
SUMMARY:Amapiano Fest
URL;VALUE=URI:https://www.howler.co.za/amapianofest_cpt-2026
END:VEVENT
END:VCALENDAR
