BEGIN:VCALENDAR
VERSION:2.0
PRODID:icalendar-ruby
CALSCALE:GREGORIAN
METHOD:PUBLISH
BEGIN:VEVENT
DTSTAMP:20260425T134650Z
UID:03cf0f7d-2c92-4482-a7f2-8865cd29f41f
DTSTART:20260501T210000
DTEND:20260502T040000
DESCRIPTION:<p><strong>From Big Brother To Big Stage </strong></p><p><stron
 g>Paprika Turns Up The Heat At Lava</strong></p>
LOCATION:25 Silver Avenue Stamford Hill Road Durban
SUMMARY:Ashay Take's On Lava
URL;VALUE=URI:https://www.howler.co.za/paprika
END:VEVENT
END:VCALENDAR
