BEGIN:VCALENDAR
VERSION:2.0
PRODID:icalendar-ruby
CALSCALE:GREGORIAN
METHOD:PUBLISH
BEGIN:VEVENT
DTSTAMP:20260421T171821Z
UID:55288629-8ac5-4bc1-a49d-ab8c1f025a21
DTSTART:20260613T160000
DTEND:20260613T210000
DESCRIPTION:<p><span>🎉 Bed By 10: The Ultimate 30+ Clubbing Experience! 
 🎉</span></p><p><br></p><p><span>You asked. We listened. We're back Joha
 nnesburg!🔥</span></p><p><br></p><p><span>Fancy going out for a dance bu
 t not keen on sacrificing the next day? We've got you covered!</span></p><
 p><br></p><p><span>Bed By 10 is a chance for ravers over 30's to relive th
 e peak of the 80s\, 90s & early 2000s clubbing scene!</span></p><p><br></p
 ><p><span>Expect crazy visuals\, an Insane Nostalgic atmosphere and much m
 ore as our resident DJ spins all the club classics 🚀</span></p><p><br><
 /p><p><span>Date: June 13th 2026</span></p><p><span>Venue: Sognage\, 304 T
 ungsten Rd\, Strydompark\, Johannesburg\, 2169\, South Africa</span></p><p
 ><span>Time: 4pm - 9pm</span></p><p><span>Last Entry: 5:00pm</span></p><p>
 <span>Good vibes only!</span></p><p><br></p><p><span>Our event is designed
  for those who love to dance\, socialize\, and enjoy great music—all whi
 le being home and in bed by 10PM✨</span></p><p><br></p><p><span>IMPORTAN
 T INFO:</span></p><p><span>• This Is A DJ Club Night\, The Artists Pictu
 red In Our Event Artwork Are Not Performing</span></p><p><span>• This Is
  An Event Catering To Those Over 30\, However\, If Friends 25+ Would Like 
 To Attend Then They Are Welcome</span></p><p><br></p><p><span>By purchasin
 g tickets\, you accept our event Terms & Conditions: ⁦https://likeit-lov
 eit.com/pages/terms-conditions⁩</span></p><p><br></p><p><span>For any ev
 ent enquiries\, contact our Customer Service Team: ⁦ https://likeit-love
 it.com/pages/contact-us⁩</span></p><p><br></p>
LOCATION:304 Tungsten Road\, Strydompark\, Johannesburg\, 2169
SUMMARY:Bed By 10pm Returns To Johannesburg!
URL;VALUE=URI:https://www.howler.co.za/BedBy10Johannesburg
END:VEVENT
END:VCALENDAR
