BEGIN:VCALENDAR
VERSION:2.0
PRODID:icalendar-ruby
CALSCALE:GREGORIAN
METHOD:PUBLISH
BEGIN:VEVENT
DTSTAMP:20260422T053320Z
UID:1502a678-e899-415e-a710-ad7628ecb147
DTSTART:20260904T150000
DTEND:20260906T170000
DESCRIPTION:<p><span>Celebrate spring on the West Coast with a weekend of w
 ine\, wildflowers\, food\, art\, and music in the charming village of Pate
 rnoster. Blomme & Bubbles brings together more than 30 wineries\, local re
 staurants\, artists\, and shops to create a vibrant wine-tasting adventure
  unlike any other.</span></p><p><span>With your festival pass\, you’ll e
 njoy unlimited tastings at stations across the village\, explore bonus sta
 mp challenges\, and soak up the best that Paternoster has to offer. From e
 legant dining and fresh seafood to flower crowns\, art exhibitions\, and l
 ive performances\, this is more than a wine festival — it’s a full vil
 lage celebration.</span></p><p><span>Now in its fourth year\, the festival
  has grown into a highlight of the West Coast calendar\, welcoming over 1\
 ,500 visitors and creating dozens of local jobs. Attendees can taste and b
 uy wines at festival-only prices\, collect stamps for the chance to win ov
 er 30 cases of wine\, and immerse themselves in the energy of a community 
 coming together to celebrate.</span></p><p><span>Join us from </span><str
 ong>4–6 September 2026</strong><span> and discover why Blomme & Bubbles
  is where wine\, flowers\, and fun collide.</span></p><p><br></p>
LOCATION:54 Saint Augustine Road\, Paternoster
SUMMARY:Blomme & Bubbles Festival 2026
URL;VALUE=URI:https://www.howler.co.za/blommebubbles26
END:VEVENT
END:VCALENDAR
