BEGIN:VCALENDAR
VERSION:2.0
PRODID:icalendar-ruby
CALSCALE:GREGORIAN
METHOD:PUBLISH
BEGIN:VEVENT
DTSTAMP:20260421T153056Z
UID:925a3b18-2fe5-4a4d-99c3-f33a97747eea
DTSTART:20260525T073000
DTEND:20260525T090000
DESCRIPTION:<h2>Let's Talk About Sex\, Baby! 🩷🫀🧠🔥</h2><p><br></
 p><h4><strong>You asked. We answered.</strong></h4><p>No one ever taught u
 s how to talk about sex - <strong><u>properly.</u></strong></p><ul><li>Not
  about our bodies.</li><li>Not about desire changing.</li><li>Not about in
 timacy after children\, stress\, illness\, or years together.</li><li>And 
 definitely not about what happens when our minds are tired\, busy\, overst
 imulated\, or wired differently.</li></ul><p>So we learned in fragments. F
 rom whispers. From Google. From silence.</p><p><strong>Brave Sex</strong> 
 is a morning conversation (on purpose!) 🌅 designed to replace silence w
 ith language\, and shame with understanding. ✨💬</p><p>This is not a s
 ensationalised sex talk. It’s a grounded\, evidence-based conversation a
 bout intimacy\, desire\, hormones\, mental load\, neurodivergence\, and th
 e very real ways our bodies and brains shape our sexual wellbeing.</p><p><
 br></p><h3>You’ll hear from:</h3><p>🩵🧡💛<strong>Dr Zenda</strong
 > - medical doctor and women’s health advocate\, bringing clarity to the
  biological and physiological foundations of sexual wellbeing\, from hormo
 nes to nervous system regulation.</p><p>🩵🧡💛<strong>Catriona Boffa
 rd</strong> - accredited clinical psychosexologist and internationally rec
 ognised speaker\, exploring the psychology of desire\, intimacy\, trauma\,
  ADHD\, neurodivergence\, and the role of the brain in sex.</p><p><br></p>
 <h4><strong>Together\, they’ll unpack sex through both the body and the 
 mind.</strong></h4><h4><strong>Because sex doesn’t happen in isolation f
 rom our brains. </strong></h4><h4><strong>And understanding that changes e
 verything.</strong></h4><p><br></p><h4>Expect:</h4><ul><li>✅Honest conve
 rsation</li><li>✅Evidence-based insight</li><li>✅Q&A</li><li>✅A safe
 \, grown-up space for curiosity</li></ul><p>This morning is about self-wor
 th\, agency\, and understanding... not performance or perfection.</p><p><s
 trong><em>Come as you are. Bring your questions. Leave with language.</em>
 </strong></p><p><br></p>
LOCATION:20 Archimedes St\, Kramerville\, Sandton\, 2090
SUMMARY:Brave Collective | Brave Sex
URL;VALUE=URI:https://www.howler.co.za/bravesex26
END:VEVENT
END:VCALENDAR
