BEGIN:VCALENDAR
VERSION:2.0
PRODID:icalendar-ruby
CALSCALE:GREGORIAN
METHOD:PUBLISH
BEGIN:VEVENT
DTSTAMP:20260421T171244Z
UID:177c699e-aa35-4c05-9249-12aec7b9c0a0
DTSTART:20260815T203000
DTEND:20260816T013000
DESCRIPTION:<p>🎪 Cirque Du Rave Is Coming To Johannesburg! 🎪</p><p><b
 r></p><p>Step right up for the most electrifying fusion of circus spectacl
 e and rave chaos you’ve ever experienced. This isn’t just a party - it
 ’s a carnival of sound\, light\, and energy.</p><p><br></p><p>Expect a n
 ight packed with: ✨ Breathtaking Immersive Production 💃 Stunning Circ
 us Performances 🔊 World-Class DJs 🎉 High Energy Dance Music </p><p><
 br></p><p>EVENT INFO</p><p>📍 Venue: Sognage\, 304 Tungsten Rd\, Strydom
 park\, Johannesburg\, 2169\, South Africa</p><p>📆 Date: 15th August 202
 6</p><p>⏰ Event Time: 8.30pm - 1:30am 🚪 Last Entry: 9.30pm</p><p><br>
 </p><p>This is not your average rave. Cirque Du Rave is where the undergro
 und meets the big top\, where beats meet spectacle\, and where every momen
 t feels like the main event.</p><p><br></p><p>Please contact our Comms Tea
 m: events@likeit-loveit.com with any questions you have.</p><p>For New Cus
 tomers please include\; Your Full Name / Contact Number + The Event Name /
  Date / Location. For Existing Customers please include\; Your Full Name /
  Order Number / Contact Number + The Event Name / Date / Location. </p><p>
 Our Comms Team is based in the UK & aim to respond to all enquires within 
 48 hours (excluding weekends & UK public holidays). </p><p><br></p>
LOCATION:304 Tungsten Road\, Strydompark\, Johannesburg\, 2169
SUMMARY:Cirque Du Rave Returns To Johannesburg!
URL;VALUE=URI:https://www.howler.co.za/CirqueDuRaveJoburg
END:VEVENT
END:VCALENDAR
