BEGIN:VCALENDAR
VERSION:2.0
PRODID:icalendar-ruby
CALSCALE:GREGORIAN
METHOD:PUBLISH
BEGIN:VEVENT
DTSTAMP:20260421T083021Z
UID:65bb157e-ed0c-4b14-a92a-18bb7e0d6337
DTSTART:20260509T090000
DTEND:20260509T120000
DESCRIPTION:<p><strong>90s-Inspired Coffee Rave ☕🎶</strong></p><p>\n</
 p><p>Step into the energy of the 90s rave era — reimagined for the morni
 ng. This <strong>90s-inspired Coffee Rave</strong> blends uplifting house\
 , classic rave anthems\, and feel-good beats with incredible coffee and a 
 vibrant daytime crowd.</p><p>\n</p><p>Expect nostalgic 90s sounds\, high-e
 nergy DJs\, and a dancefloor filled with positive vibes. No late nights\, 
 no hangovers — just great music\, great people\, and seriously good coff
 ee to start your day right.</p><p>\n</p><p>Come dressed in your best 90s r
 ave style and dance like it’s 1999.</p><p>\n</p><p>☕ Specialty coffee\
 n🎧 90s house & rave classics\n🌞 Daytime dancefloor\n✨ Good energy 
 only</p><p>\n</p><p><strong>The rave\, but make it morning.</strong></p><p
 >\n</p>
LOCATION:70 - 74 Bree Street\, Cape Town
SUMMARY:Coffee Raves CPT
URL;VALUE=URI:https://www.howler.co.za/CoffeeRavesCapeTown
END:VEVENT
END:VCALENDAR
