BEGIN:VCALENDAR
VERSION:2.0
PRODID:icalendar-ruby
CALSCALE:GREGORIAN
METHOD:PUBLISH
BEGIN:VEVENT
DTSTAMP:20260422T013835Z
UID:83f67467-5422-48e0-9c55-1d864036a640
DTSTART:20260424T160000
DTEND:20260425T120000
DESCRIPTION:<p>Confessions brings the ultimate R&B\, hip hop\, and house vi
 be</p>
LOCATION:1 palm Blvd umhlanga ridge 4319
SUMMARY:Confessions
URL;VALUE=URI:https://www.howler.co.za/ConfessionsEnt
END:VEVENT
END:VCALENDAR
