BEGIN:VCALENDAR
VERSION:2.0
PRODID:icalendar-ruby
CALSCALE:GREGORIAN
METHOD:PUBLISH
BEGIN:VEVENT
DTSTAMP:20260421T081044Z
UID:8d56602b-865e-41c9-ada7-eb91034d2bc9
DTSTART:20260508T180000
DTEND:20260509T020000
DESCRIPTION:<p>Uni Students we have created something for you!</p><p>Cheap 
 and simple. </p><p><br></p><p>Lets make these nights unforgettable.</p>
LOCATION:Time Square\, Menlyn\, Pretoria
SUMMARY:Distrikt Twelve | Chapter One
URL;VALUE=URI:https://www.howler.co.za/dskt
END:VEVENT
END:VCALENDAR
