BEGIN:VCALENDAR
VERSION:2.0
PRODID:icalendar-ruby
CALSCALE:GREGORIAN
METHOD:PUBLISH
BEGIN:VEVENT
DTSTAMP:20260421T105631Z
UID:d706e1cf-a554-4fa7-8021-bf1a1828cbaa
DTSTART:20260510T070000
DTEND:20260510T083000
DESCRIPTION:<p><span style="color: rgb(19\, 1\, 1)\;">The Dolphin Mile Surf
  Swim is South Africa’s premier ocean swimming series\, held at Addingto
 n Beach on Durban’s Golden Mile. Founded in 2007 by swimming coach and M
 asters champion Heather Campbell\, the series was created to promote ocean
  swimming among participants of all ages and skill levels.</span></p><p><s
 pan style="color: rgb(19\, 1\, 1)\;">Now managed by seasoned lifesaving an
 d event professional Trevor Martin\, the series features seven events thro
 ughout the year\, with swim distances of 800m\, 1.6km\, and 3.2km. Swimmer
 s aged 10 to 70+ take part\, whether for competition\, personal challenge\
 , or a healthy lifestyle.</span></p><p><span style="color: rgb(19\, 1\, 1)
 \;">Hosted by Marine Surf Lifesaving Club\, the Dolphin Mile offers a safe
 \, inclusive\, and exhilarating ocean swim experience\, celebrating commun
 ity\, endurance\, and a love for the ocean.</span></p>
LOCATION:Addington Beach\, Durban
SUMMARY: Dolphin Mile Swim #2 - 10 May 2026
URL;VALUE=URI:https://www.howler.co.za/dolphin10May2026
END:VEVENT
END:VCALENDAR
