BEGIN:VCALENDAR
VERSION:2.0
PRODID:icalendar-ruby
CALSCALE:GREGORIAN
METHOD:PUBLISH
BEGIN:VEVENT
DTSTAMP:20260421T141234Z
UID:c93d24a3-6b83-4d54-b807-caa65feac204
DTSTART:20260719T070000
DTEND:20260719T083000
DESCRIPTION:<p><span style="color: rgb(4\, 1\, 1)\;">The Dolphin Mile Surf 
 Swim is South Africa’s premier ocean swimming series\, held at Addington
  Beach on Durban’s Golden Mile. Founded in 2007 by swimming coach and Ma
 sters champion Heather Campbell\, the series was created to promote ocean 
 swimming among participants of all ages and skill levels.</span></p><p><sp
 an style="color: rgb(4\, 1\, 1)\;">Now managed by seasoned lifesaving and 
 event professional Trevor Martin\, the series features seven events throug
 hout the year\, with swim distances of 800m\, 1.6km\, and 3.2km. Swimmers 
 aged 10 to 70+ take part\, whether for competition\, personal challenge\, 
 or a healthy lifestyle.</span></p><p><span style="color: rgb(4\, 1\, 1)\;"
 >Hosted by Marine Surf Lifesaving Club\, the Dolphin Mile offers a safe\, 
 inclusive\, and exhilarating ocean swim experience\, celebrating community
 \, endurance\, and a love for the ocean.</span></p>
LOCATION:Addington Beach\, Durban
SUMMARY: Dolphin Mile Swim #7 - 19 July 2026
URL;VALUE=URI:https://www.howler.co.za/dolphin19July2026
END:VEVENT
END:VCALENDAR
