BEGIN:VCALENDAR
VERSION:2.0
PRODID:icalendar-ruby
CALSCALE:GREGORIAN
METHOD:PUBLISH
BEGIN:VEVENT
DTSTAMP:20260422T071410Z
UID:3f903d72-273c-46ec-8136-9e850b4cda9a
DTSTART:20260905T160000
DTEND:20260906T040000
DESCRIPTION:<p>DRIP OR DROWN – SPRING INVASION 🌊🔥</p><p><br></p><p>
 Get ready for a lifestyle experience like no other!</p><p><br></p><p>Join 
 us for a day and night filled with:</p><p>• Music 🎧</p><p>• Fashion
  👕</p><p>• Vibes 🔥</p><p><br></p><p>📅 Date: 05 September 2026</
 p><p>⏰ Time: 16:00 till late</p><p>📍 Venue: 1190 Minnie Street\, Duka
 thole\, Germiston</p><p><br></p><p>🎟 TICKETS</p><p>Pre-sold (limited): 
 R70</p><p>General: R100</p><p>At the gate: R150</p><p><br></p><p>Coolerbox
 : FREE</p><p>Hubbly pass: FREE</p><p><br></p><p>Come experience the drip o
 r drown 🔥</p><p>Don’t miss out!</p><p><br></p><p>#DripOrDrown #Spring
 Invasion #InventiveCreation</p><p><br></p>
LOCATION:1190 Minnie Street Dukathole Germiston 
SUMMARY:Drip or Drown
URL;VALUE=URI:https://www.howler.co.za/Dripordrown2026
END:VEVENT
END:VCALENDAR
