BEGIN:VCALENDAR
VERSION:2.0
PRODID:icalendar-ruby
CALSCALE:GREGORIAN
METHOD:PUBLISH
BEGIN:VEVENT
DTSTAMP:20260422T022929Z
UID:fbbf3649-98d0-487d-81b4-82b10adb2227
DTSTART:20260705T140000
DTEND:20260706T040000
DESCRIPTION:<p><strong>Durban July All Black</strong> is an upscale\, all
 ‑black themed afterparty held during Durban July weekend that celebrates
  fashion\, music and VIP lifestyle culture. The event features top DJs and
  live performers\, curated hospitality (VIP tables and backstage access)\,
  branded activations and photo‑ready moments\, and is positioned as a pr
 emium social highlight for race‑weekend attendees.</p><p><br></p><p>for 
 Table Bookings: Matshepiz @0720935313 or Banele @0763166492</p><p>#DurbanJ
 ulyAllBlack</p><p>#TouchOfPlatinumWalk</p><p>#TouchOfDimondWalk</p><p>#Fri
 endsOfAllBlack</p><p><br></p>
LOCATION:Durban
SUMMARY:Durban July All Black - 10th Anniversary
URL;VALUE=URI:https://www.howler.co.za/durban-july-all-black-2026
END:VEVENT
END:VCALENDAR
