BEGIN:VCALENDAR
VERSION:2.0
PRODID:icalendar-ruby
CALSCALE:GREGORIAN
METHOD:PUBLISH
BEGIN:VEVENT
DTSTAMP:20260422T004830Z
UID:79969f09-2cd3-4def-a4bb-c41586c946fb
DTSTART:20260627T190000
DTEND:20260628T040000
DESCRIPTION:<p><span>The parade may end\, but the celebration is far from o
 ver.</span></p><p><span>Join us as we turn up the heat at The WEREHOUSE fo
 r the ultimate Pride Afterparty — a night dedicated to love\, freedom\, 
 self-expression\, and unapologetic pride.</span></p><p><br></p><p><span>Ex
 pect electric vibes\, unforgettable music\, fierce fashion\, and a crowd t
 hat knows how to celebrate diversity in all its power and beauty. This is 
 where Pride comes alive after dark.</span></p><p><br></p><p>Date: 27 June 
 2026</p><p><span>Come bold. Come proud. Come exactly as you are.</span></p
 ><p><br></p><p><span>Pride is not just a moment — it’s a movement. Let
 ’s celebrate it together.</span></p><p><br></p>
LOCATION:82 Hunter St\, Durban
SUMMARY:DURBAN PRIDE AFTERPARTY 2026
URL;VALUE=URI:https://www.howler.co.za/durbanprideafterparty2026THEWEREHOUS
 E
END:VEVENT
END:VCALENDAR
