BEGIN:VCALENDAR
VERSION:2.0
PRODID:icalendar-ruby
CALSCALE:GREGORIAN
METHOD:PUBLISH
BEGIN:VEVENT
DTSTAMP:20260421T215541Z
UID:edc3e407-fd05-4e6e-95bc-fe1b6b3c161e
DTSTART:20260606T140000
DTEND:20260607T020000
DESCRIPTION:<p>Endless Summer Estate is more than a party\, it's a lifestyl
 e. We’re reimagining what it means to gather and celebrate\, blending th
 e nostalgic energy of house parties with elevated\, curated\, daytime esta
 te experiences. As our audience matures\, so do their tastes. We’ve all 
 done the house party. Now\, we live in estates—and we’re bringing the 
 culture with us. Endless Summer fills a unique gap in the market by offeri
 ng refined\, consistent\, and memorable events designed for today’s life
 style.</p>
LOCATION: 369 Peter Mokaba Ridge\, Berea\, Durban
SUMMARY:Endless Summer Estate: The Sole Edition
URL;VALUE=URI:https://www.howler.co.za/endlesssummerestate
END:VEVENT
END:VCALENDAR
