BEGIN:VCALENDAR
VERSION:2.0
PRODID:icalendar-ruby
CALSCALE:GREGORIAN
METHOD:PUBLISH
BEGIN:VEVENT
DTSTAMP:20260421T105550Z
UID:a904ea0e-e7bb-466c-873a-1f13c98a01a1
DTSTART:20260510T120000
DTEND:20260510T150000
DESCRIPTION:<p><strong>Celebrate the Essence of You: Feminine Flow</strong>
 </p><p><br></p><p><span>Join us at </span><strong>One Flow Yoga & Wellnes
 s Social Club</strong><span> for an afternoon dedicated to the art of slo
 wing down and honoring the feminine spirit. On </span><strong>May 10th</s
 trong><span>\, we are opening our doors for a curated three-hour journey d
 esigned to nourish your body\, mind\, and soul.</span></p><p><span>From th
 e moment you arrive\, you’ll be immersed in an environment of holistic c
 are. We begin with refreshing mocktails from Ginologist before moving thro
 ugh a heart-opening Yoga Flow led by Jeanae Dumas\, followed by a deeply r
 estorative Sound Bath led by Sabrina Morreno. The afternoon concludes with
  a Guided Sauna Session and a moment of community at our Love Wall.</span>
 </p><p><strong>Date:</strong><span> 10 May</span></p><p><strong>Time:</st
 rong><span> 12:00 – 15:00</span></p><p><strong>Location:</strong><span>
  One Flow Yoga & Wellness Social Club</span></p><p><strong>Included:</str
 ong><span> A luxury Goodie Bag valued at R1000 featuring House of Stealin
 g Beauty\, ORA\, Lovie Wellness\, and Morning Rituals.</span></p><p><br></
 p>
LOCATION:The Rockwell\, Prestwich Street\, Green Point\, Cape Town
SUMMARY:Feminine Flow at One Flow
URL;VALUE=URI:https://www.howler.co.za/feminineflowatoneflow
END:VEVENT
END:VCALENDAR
