BEGIN:VCALENDAR
VERSION:2.0
PRODID:icalendar-ruby
CALSCALE:GREGORIAN
METHOD:PUBLISH
BEGIN:VEVENT
DTSTAMP:20260422T022235Z
UID:c84b9325-d3e5-4e44-89aa-be595db31861
DTSTART:20260720T110000
DTEND:20260720T200000
DESCRIPTION:<p><strong>The hair event of the year is back.</strong></p><p>A
 fter a huge first instalment last year\, the Festival of Hair returns for 
 2026. Bigger. Bolder. Louder.</p><p> A high-energy showcase of hair artis
 try\, creativity\, and technique from some of the most exciting names in h
 air.</p><p><br></p><p><strong>HEADLINERS</strong></p><p><strong>Lesley Jen
 nison</strong></p><p><em>The Queen of Colour</em></p><p><strong>Christos M
 ichailidis</strong></p><p><em>The Remarkable World of AI & Digital Creatio
 n</em></p><p><strong>Andy Smith</strong></p><p><em>Cutting Extraordinaire<
 /em></p><p><strong>Michelle Tanner</strong></p><p><em>Business Enthusiast 
 & Growth Guru</em></p><p>Expect live transformations\, fearless creativity
 \, and serious inspiration.</p><p><br></p><p>Your ticket includes:</p><p>
 • Access to all sessions (some sessions have a seating limit and will wo
 rk on a first-seated basis)</p><p>• Headline sessions from all four inte
 rnational headline artists</p><p>• Two complimentary beverages <em>(non
 -alcoholic)</em></p><p><em>• </em>Light snacks</p><p>• One meal</p><p
 >• Free parking</p><p>• Unlimited Wi-Fi</p><p><strong>If you’re seri
 ous about your craft\, this is where you need to be.</strong></p><p><br></
 p>
LOCATION:10 Eastern Service Rd\, Eastgate\, Sandton\, Johannesburg\, Gauten
 g\, 2090
SUMMARY:Festival of Hair | Joburg | 2026
URL;VALUE=URI:https://www.howler.co.za/festivalofhair
END:VEVENT
END:VCALENDAR
