BEGIN:VCALENDAR
VERSION:2.0
PRODID:icalendar-ruby
CALSCALE:GREGORIAN
METHOD:PUBLISH
BEGIN:VEVENT
DTSTAMP:20260422T102528Z
UID:50b13d13-8436-4e94-94a0-f24c84a4e2ee
DTSTART:20261105T083000
DTEND:20261108T221500
DESCRIPTION:<h3><strong style="color: rgb(255\, 0\, 0)\;">Leave the Busy Ci
 ty Noise behind</strong><strong> and step into a </strong><strong style="c
 olor: rgb(11\, 158\, 11)\;">Riverside Paradise</strong>.</h3><p><br></p><h
 4><strong style="color: rgb(255\, 142\, 13)\;">Set on a private riverside 
 farm</strong> surrounded by<span style="color: rgb(0\, 255\, 255)\;"> </sp
 an><strong style="color: rgb(11\, 181\, 36)\;">tall lush green trees\, ope
 n plains\, soft river sand and expansive skies\, </strong>this experience 
 <em>blends travel\, music\, food\, camping\, adventure and lifestyle into 
 one immersive escape.</em> Guests will enjoy fresh air\, scenic views\, au
 thentic farm life with domestic livestock\, and the calming rhythm of natu
 re.</h4><p><br></p><h4>Curated for <strong>focused minds\, young entrepren
 eurs\, professionals\, creatives\, tourists and private individuals\,</str
 ong> the event offers a refined yet relaxed atmosphere where connection\, 
 inspiration and enjoyment coexist. Expect curated music experiences\, qual
 ity food\, interactive activities\, nature-based adventure and <strong>cam
 ping under the stars.</strong></h4><p><br></p><p>Guided by <strong>travel 
 blogger </strong><strong style="color: rgb(194\, 0\, 204)\;">Zahara Nova (
 <em>Zeenova</em>)</strong><strong>\, </strong>this gathering marks the beg
 inning of a long-term journey leading toward the flagship <strong>main eve
 nt.</strong></p><p><br></p><p><strong style="color: rgb(255\, 0\, 0)\;">Co
 me disconnect & meditate away from noise and reconnect with purpose\, soul
 s and nature.</strong></p>
LOCATION:Erongo\, Namibia
SUMMARY:Hiigh Namibia - River Tales • Camping • Tours 
URL;VALUE=URI:https://www.howler.co.za/hiigh_namibia
END:VEVENT
END:VCALENDAR
