BEGIN:VCALENDAR
VERSION:2.0
PRODID:icalendar-ruby
CALSCALE:GREGORIAN
METHOD:PUBLISH
BEGIN:VEVENT
DTSTAMP:20260421T081113Z
UID:fcc4bc76-077f-47fc-8d18-ff354e7b6dfc
DTSTART:20260508T170000
DTEND:20260509T030000
DESCRIPTION:<p><strong style="color: rgb(98\, 98\, 98)\;">HOME TOWN</strong
 ><span style="color: rgb(98\, 98\, 98)\;"> is more than just a party. it
 ’s a full-on celebration of culture\, music\, and community. Bringing to
 gether the sound\, the people\, and the energy that raised us\, </span><st
 rong style="color: rgb(98\, 98\, 98)\;">HOME TOWN</strong><span style="col
 or: rgb(98\, 98\, 98)\;"> is where familiar faces meet unforgettable vibes
 .</span></p><p><span style="color: rgb(98\, 98\, 98)\;">Expect a high-ener
 gy night powered by top DJs\, diverse sounds\, and an electric crowd ready
  to dance from early evening until the early hours of the morning. From Gq
 om\, amapiano and hip hop to house and hometown anthems\, the music is cur
 ated to keep the floor moving all night long.</span></p><p><span style="co
 lor: rgb(98\, 98\, 98)\;">HOME TOWN creates a safe\, vibrant space to conn
 ect\, turn up\, and represent where you’re from. Whether you’re coming
  for the music\, the vibes\, or the people\, this is where memories are ma
 de</span></p>
LOCATION:98 Mahatma Gandhi Road
SUMMARY:HOME TOWN
URL;VALUE=URI:https://www.howler.co.za/hometown
END:VEVENT
END:VCALENDAR
