BEGIN:VCALENDAR
VERSION:2.0
PRODID:icalendar-ruby
CALSCALE:GREGORIAN
METHOD:PUBLISH
BEGIN:VEVENT
DTSTAMP:20260425T103623Z
UID:98ce724e-bb05-4987-a758-c96369983038
DTSTART:20260430T190000
DTEND:20260430T220000
DESCRIPTION:<p><strong>Horsing Around Comedy Club</strong><span> </span></
 p><p><br></p><p><span>Join us for an unforgettable night of comedy. We’v
 e brought you another </span><strong>amazing lineup</strong><span>!</span
 ></p><p><br></p><p><strong>Headliner:</strong></p><p><span>Wesley Paulse</
 span></p><p><strong>Host:</strong></p><p><span>Chuma Bentele</span></p><p>
 <strong>Supporting Acts:</strong></p><p><span>Callum Hitchcock</span></p><
 p><span>Ntobeko Ximba</span></p><p><span>Jaryd Pillay</span></p><p><br></p
 ><p><span>🎟️ </span><strong>Limited tickets available</strong><span>
  … grab yours ASAP before they’re gone!</span></p><p><span>📍 Stor
 y Horse on Bree</span></p><p><br></p><p>Sponsored by Glenmorangie </p><p>F
 ood Menu Available</p><p><br></p><p><br></p>
LOCATION:110 bree street 
SUMMARY:Horsing Around Comedy Club
URL;VALUE=URI:https://www.howler.co.za/horsingaround
END:VEVENT
END:VCALENDAR
