BEGIN:VCALENDAR
VERSION:2.0
PRODID:icalendar-ruby
CALSCALE:GREGORIAN
METHOD:PUBLISH
BEGIN:VEVENT
DTSTAMP:20260422T035445Z
UID:3889bcec-fbc5-4641-af4e-19d75cfc4174
DTSTART:20260802T140000
DTEND:20260803T020000
DESCRIPTION:<h1><strong>IN THE BURG – CPT TOWN FESTIVAL 2026</strong></h1
 ><p><strong>----------------------- IN THE BURG – CPT ------------------
 -----</strong></p><p><span>IN THE BURG lands in Cape Town — bringing the
  energy of Jozi to the coast for a </span><strong>high-intensity electroni
 c experience</strong><span> like no other.</span></p><p><span>Headlined by
  </span><strong>INTERNATIONAL DJ BERG</strong><span>\, this edition blends
  </span><strong>global sounds</strong><span>\, </span><strong>local cultur
 e</strong><span>\, and </span><strong>coastal energy</strong><span> into o
 ne unforgettable night.</span></p><h3><br></h3><h3><u>THE EXPERIENCE</u></
 h3><p><span>Expect a carefully curated lineup delivering </span><strong>no
 n-stop energy</strong><span> from start to finish.</span></p><p><strong>On
 e space. One crowd. One continuous vibe.</strong></p><h3><br></h3><h3><u>V
 ENUE</u></h3><p><span>Hosted at </span><strong>Surfa Rosa</strong><span>\,
  Cape Town\, transforming the space into a fully immersive BURG experience
 .</span></p><p><br></p><h3><u>THE DANCEFLOORS</u></h3><p><br></p><ul><li><
 span>District Main Stage</span></li><li><span>Harringtons Drum and Base</s
 pan></li><li><span>Surfa Rosa VIP Floor</span></li></ul><h3><br></h3><h3><
 u>WHAT TO EXPECT</u></h3><p><span>Deep sounds. High energy.</span></p><p><
 span>An intimate but explosive dancefloor.</span></p><p><strong>This is wh
 ere Cape Town meets BURG.</strong></p><h3><br></h3><h3><u>VIP EXPERIENCE (
 CPT)</u></h3><ul><li><span>Full access to </span><strong>Surfa Rosa VIP ex
 perience</strong></li><li><span>Dedicated VIP bar & premium service</span>
 </li><li><span>Elevated comfort within an exclusive setting</span></li></u
 l><h3><br></h3><h3><u>TICKETING</u></h3><p><strong>PRE-REGISTRATION</stron
 g></p><p><span>Opens: </span><strong>12 April 2026 @ 16:00</strong></p><p>
 <span>Closes: </span><strong>24 April 2026</strong></p><ul><li><em>Early B
 ird access is strictly limited to pre-registered guests.</em></li></ul><p>
 <br></p><p><br></p><p><strong>EARLY BIRD TICKETS</strong></p><ul><li><span
 >Limited to </span><strong>1000 tickets only</strong></li><li><span>Two Ti
 ckets Per Purchase</span></li></ul><p><span>Drops: </span><strong>25 April
  2026 @ 14:00 sharp</strong></p><p><br></p><p><br></p><p><strong>PHASE 1 /
  PHASE 2 / FINAL PHASE</strong></p><p><span>Ticket pricing to be announced
 </span></p><p><span>(</span><em>All tickets subject to Howler fees</em><sp
 an>)</span></p><h3><br></h3><h3><u>IMPORTANT</u></h3><p><span>No under 18s
 . No exceptions.</span></p><p><br></p><p><br></p>
LOCATION:61 Harrington Street\, Cape Town\, South Africa
SUMMARY:In The Burg -CPT- 2026 
URL;VALUE=URI:https://www.howler.co.za/Burg26CPT2026
END:VEVENT
END:VCALENDAR
