BEGIN:VCALENDAR
VERSION:2.0
PRODID:icalendar-ruby
CALSCALE:GREGORIAN
METHOD:PUBLISH
BEGIN:VEVENT
DTSTAMP:20260422T035549Z
UID:4e4de662-4951-452d-8856-f40c1d171d88
DTSTART:20260801T180000
DTEND:20260802T030000
DESCRIPTION:<h1><span>IN THE BURG – JHB TOWN FESTIVAL 2026</span></h1><p>
 <strong>----------------------- IN THE BURG – JHB ----------------------
 -</strong></p><p><span>IN THE BURG takes over Johannesburg for the </span>
 <strong>largest winter electronic town festival in South Africa</strong><s
 pan> and in 2026\, we welcome </span><strong>INTERNATIONAL DJ BERG</strong
 ><span> to the city.</span></p><p><br></p><p><span>Bringing together </spa
 n><strong>global talent</strong><span> and the </span><strong>best of Sout
 h Africa’s electronic scene</strong><span>\, this is more than just a fe
 stival… it’s a full-scale </span><strong>urban takeover</strong><span>
 .</span></p><p><strong>3 stages. 20+ performances. 5\,000 partygoers and Y
 ou.</strong></p><p><br></p><h3><u>THE DANCEFLOORS</u></h3><p><br></p><ul><
 li><span>BURG’D Main Stage</span></li><li><span>Carfax Stage</span></li>
 <li><span>Toy Toy Stage</span></li></ul><p><br></p><h3><u>EXPERIENCE</u></
 h3><p><span>A sound for every taste.</span></p><p><span>From sunset build-
 ups to peak-time chaos…</span></p><p><strong>Prepare for a full sensory 
 overload.</strong></p><p><strong>DO YOU EVEN BURG?</strong></p><p><br></p>
 <h3><u>LOCK-IN EXPERIENCE (JHB Only)</u></h3><p><strong>03:00 – 06:00 LO
 CK-IN</strong></p><p><span>No exits. No re-entry. No slowing down.</span><
 /p><p><span>Only real partygoers survive the final stretch.</span></p><p><
 em>More info to be announced.</em></p><p><br></p><h3><span>VIP EXPERIENCE 
 (JHB)</span></h3><ul><li><span>Preferential entrance & dedicated VIP queue
 </span></li><li><span>Access to elevated VIP floor & seating areas</span><
 /li><li><span>Private VIP bar</span></li></ul><h3><br></h3><h3><span>VVIP 
 EXPERIENCE (JHB)</span></h3><ul><li><span>Preferential entrance & dedicate
 d VIP queue</span></li><li><span>Access to elevated VIP floor & seating ar
 eas</span></li><li><span>Backstage access at the Main Stage</span></li><li
 ><span>Private VIP bar</span></li></ul><p><br></p><h3><u>TICKETING</u></h3
 ><p><strong><em>PRE-REGISTRATION</em></strong></p><p><br></p><p><span>Open
 s: </span><strong>12 April 2026 @ 16:00</strong></p><p><span>Closes: </spa
 n><strong>24 April 2026</strong></p><ul><li><em>Early Bird access is stric
 tly limited to pre-registered guests.</em></li></ul><p><br></p><p><strong>
 EARLY BIRD TICKETS</strong></p><ul><li><span>Limited to </span><strong>100
 0 tickets only</strong></li><li><span>Two Tickets Per Purchase</span></li>
 </ul><p><span>Drops: </span><strong>25 April 2026 @ 14:00 sharp</strong></
 p><p><br></p><p><strong>PHASE 1 / PHASE 2 / FINAL PHASE</strong></p><p><sp
 an>Ticket pricing to be announced</span></p><p><span>(</span><em>All ticke
 ts subject to Howler fees</em><span>)</span></p><h3><br></h3><h3><u>IMPORT
 ANT</u></h3><p><span>No under 18s. No exception</span></p><p><br></p><p><b
 r></p>
LOCATION:Johannesburg\, Gauteng\, 1709
SUMMARY:In The Burg -JHB- 2026 
URL;VALUE=URI:https://www.howler.co.za/Burg26JHB2026
END:VEVENT
END:VCALENDAR
