BEGIN:VCALENDAR
VERSION:2.0
PRODID:icalendar-ruby
CALSCALE:GREGORIAN
METHOD:PUBLISH
BEGIN:VEVENT
DTSTAMP:20260422T022636Z
UID:7e10e5a7-b749-40de-b4b1-d37c62272e1b
DTSTART:20260627T150000
DTEND:20260628T020000
DESCRIPTION:<p><span>The wave is back! Kloutwav Festival returns with unsto
 ppable energy\, bringing together the hottest artists\, immersive experien
 ces\, and a community vibe like no other. </span></p><p><br></p><p><span>
 From electrifying performances to interactive culture pop-ups and more\, t
 his year’s edition is set to be unforgettable.</span></p><p><br></p>
LOCATION:46 Belgrave\, Bryanston 
SUMMARY:KLOUTWAV
URL;VALUE=URI:https://www.howler.co.za/kloutwav26
END:VEVENT
END:VCALENDAR
