BEGIN:VCALENDAR
VERSION:2.0
PRODID:icalendar-ruby
CALSCALE:GREGORIAN
METHOD:PUBLISH
BEGIN:VEVENT
DTSTAMP:20260422T014709Z
UID:8804868e-ade6-4986-a515-5715e480fb60
DTSTART:20260424T120000
DTEND:20260425T230000
DESCRIPTION:<p><strong>KosMOS Fees 2026 in association with KykNET Buite Ek
 spo Namibië</strong></p><p>Get ready for <strong>the biggest outdoor cele
 bration of 2026!</strong></p><p>The <strong>KosMOS Fees 2026</strong>\, in
  association with the <strong>KykNET Buite Ekspo Namibië presented by Tri
 o Events</strong>\, is taking place on<strong> 24 & 25 April 2026</strong>
  at the<strong> Wanderers Sport Grounds and Affies Park in Windhoek</stron
 g> — and this year\, we’re doing it bigger\, bolder\, and better than 
 ever before.</p><p>For the first time\, your ticket gives you access to <s
 trong>BOTH DAYS</strong> of excitement — the KykNET Buite Ekspo on <stro
 ng>24 & 25 April\,</strong> as well as the spectacular KosMOS Fees on<stro
 ng> 25 April</strong>. One ticket. One price. Two unforgettable experience
 s.</p><p><strong>🎶 A World-Class Music Line-Up</strong></p><p>Experienc
 e electrifying performances from some of the biggest names in Afrikaans mu
 sic\, including:</p><ul><li>Robbie Wessels</li><li>Demi Lee Moore</li><li>
 Kurt Darren</li><li>Snotkop</li><li>Juanita du Plessis</li><li>Die Broers<
 /li><li>Early B & Justin Vega</li><li>Jay</li><li>Appel</li><li>Karlien va
 n Jaarsveld</li><li>Bernice West</li><li>Bobby van Jaarsveld</li></ul><p><
 br></p><p>Alongside incredible local talent such as:</p><ul><li>John Rock 
 Prophet</li><li>The Ells</li><li>Sagarias Tsam</li><li>…and more!</li></
 ul><p><br></p><p><strong>🌿 More Than Just a Music Festival</strong></p>
 <p>The <strong>KykNET Buite Ekspo Namibië</strong> brings a whole new fla
 ir to the weekend\, with <strong>100+ exhibitors</strong> showcasing outdo
 or living\, lifestyle brands\, food\, family entertainment\, and much more
 .</p><p>Whether you're passionate about the outdoors\, love discovering ne
 w products\, or simply enjoy a vibrant expo atmosphere — there’s somet
 hing for everyone.</p>
LOCATION:Wanderes Sports Club\, Tunschel\, Windhoek
SUMMARY:KosMOS Fees 2026
URL;VALUE=URI:https://www.howler.co.za/KosMosFees26
END:VEVENT
END:VCALENDAR
