BEGIN:VCALENDAR
VERSION:2.0
PRODID:icalendar-ruby
CALSCALE:GREGORIAN
METHOD:PUBLISH
BEGIN:VEVENT
DTSTAMP:20260421T215444Z
UID:620c1553-f2fa-431c-97c4-f9fe470c38ab
DTSTART:20260606T200000
DTEND:20260607T060000
DESCRIPTION:<p><strong>ZANZI: LEBZ & FRIENDS</strong></p><p>Zanzi invites y
 ou into an immersive night of sound\, culture\, and connection\, a space w
 here music moves deeper than the surface.</p><p><br></p><p>Led by Lebang\,
  <em>Lebz & Friends</em> brings together a curated lineup of selectors sha
 ping the future of Afro Tech\, Melodic Afro\, and Deep sounds. Expect a jo
 urney through rhythm and emotion\, blending underground energy with refine
 d sonic storytelling.</p><p><br></p><p>This isn’t just a night out it’
 s a gathering of like-minded individuals\, a community rooted in movement\
 , expression\, and shared experience.</p><p><br></p><p>From intimate momen
 ts on the dancefloor to high-energy transitions\, every set is intentional
 .</p><p><br></p><p><strong>Welcome to Zanzi. Where sound meets soul.</stro
 ng></p><p><br></p><p><strong>What to expect:</strong></p><ul><li>Afro Tech
  | Deep House | Bad Manors energy</li><li>Carefully curated DJ sets</li><l
 i>An intimate\, high-energy atmosphere</li><li>A community-driven experien
 ce</li></ul><p><br></p><p><strong>Limited early tickets available.</strong
 ></p><p><br></p>
LOCATION:39 Gwi Gwi Mrwebi St\, Newtown\, Johannesburg\, 2113
SUMMARY:Lebz & Friends 
URL;VALUE=URI:https://www.howler.co.za/LebzandFriends
END:VEVENT
END:VCALENDAR
