BEGIN:VCALENDAR
VERSION:2.0
PRODID:icalendar-ruby
CALSCALE:GREGORIAN
METHOD:PUBLISH
BEGIN:VEVENT
DTSTAMP:20260421T081507Z
UID:f51262fe-c8a0-4e66-9cab-4ca89cb284f1
DTSTART:20260509T110000
DTEND:20260509T220000
DESCRIPTION:<p>LBM 9 is set to host its 9th episode at Meropa Outdoor Arena
  Polokwane featuring King Monada & Makhadzi. LBM9 will feature the two art
 ists’ songs in the Mix which will be for a duration of 1hour 45 mins. </
 p>
LOCATION:Polokwane
SUMMARY:Lekompo Balcony Mix 9 with King Monada & Makhadzi
URL;VALUE=URI:https://www.howler.co.za/Lekompomix9
END:VEVENT
END:VCALENDAR
