BEGIN:VCALENDAR
VERSION:2.0
PRODID:icalendar-ruby
CALSCALE:GREGORIAN
METHOD:PUBLISH
BEGIN:VEVENT
DTSTAMP:20260422T102336Z
UID:a0d800e3-7e37-4cd4-86a4-30ef251c9fa6
DTSTART:20261031T000000
DTEND:20261101T000000
DESCRIPTION:<p>TsapaiM Presents The Biggest Shutdown In Leondale</p>
LOCATION:Medical clinic. Community Hall\, 19 Nerine Road\, Leondale\, 1401
SUMMARY:Leondale Shutdown
URL;VALUE=URI:https://www.howler.co.za/LeondaleShutdown
END:VEVENT
END:VCALENDAR
