BEGIN:VCALENDAR
VERSION:2.0
PRODID:icalendar-ruby
CALSCALE:GREGORIAN
METHOD:PUBLISH
BEGIN:VEVENT
DTSTAMP:20260421T215501Z
UID:c81c4f10-3c96-4a61-8126-f5934843ab93
DTSTART:20260606T140000
DTEND:20260607T020000
DESCRIPTION:<p><strong>As the season draws to a close\,<em>Look Inside Musi
 c Sessions</em> invites you to an unforgettable finale a celebration of so
 und\,energy\,and pure musical connection.We’re wrapping up the chapter i
 n style and stepping into winter with warmth on the dancefloor.Headlining 
 this special edition is none other than Chronical Deep\,bringing his signa
 ture soulful and immersive deep house sound to set the tone for a night of
  rhythm and reflection.Expect a carefully curated musical journey\, vibran
 t vibes\,and a crowd that truly understands the culture.This is more than 
 just an event it’s a send off to a beautiful season and a bold welcome t
 o the next.Let’s close it properly. Let’s welcome winter the right way
 .</strong></p><p><br></p>
LOCATION:Extension 9\,Rosslyn Road
SUMMARY:Look Inside Music Sessions 
URL;VALUE=URI:https://www.howler.co.za/Lookinsidemusicsession2
END:VEVENT
END:VCALENDAR
