BEGIN:VCALENDAR
VERSION:2.0
PRODID:icalendar-ruby
CALSCALE:GREGORIAN
METHOD:PUBLISH
BEGIN:VEVENT
DTSTAMP:20260422T053926Z
UID:9ac11997-d79b-47d3-a07e-6a4c6c363263
DTSTART:20260829T140000
DTEND:20260829T220000
DESCRIPTION:<p>Mayonie Open Air Festival is a powerful reflection of South 
 African dance culture - a story of rhythm\, roots\, and reinvention. From 
 the early house movement of the ’90s to the bold sounds that shaped the 
 2000s and beyond\, Mayonie has always followed the heartbeat of the people
 . This year\, we are bringing something deeper\, the festival invites you 
 to celebrate the past while stepping boldly into the future. With fashion 
 and culture taking center stage. A celebration of who we are. This is a re
 minder that evolution is meant to be felt.</p>
LOCATION:Jacko Jackson Dr\, Stamford Hill\, Durban\, 4025
SUMMARY:Mayonie Open Air KZN
URL;VALUE=URI:https://www.howler.co.za/MayonieKZN
END:VEVENT
END:VCALENDAR
