BEGIN:VCALENDAR
VERSION:2.0
PRODID:icalendar-ruby
CALSCALE:GREGORIAN
METHOD:PUBLISH
BEGIN:VEVENT
DTSTAMP:20260421T093024Z
UID:0bc83435-19d8-452b-a44e-4772ab294b29
DTSTART:20260509T173000
DTEND:20260509T220000
DESCRIPTION:<p>Welcome to MEnU Supper Club\, a sensory dining experience ex
 ploring how strangers connect and the conditions that make it possible.</p
 ><p>MEnU came from a simple observation: the most meaningful moments of co
 nnection in people's lives tend to happen around a table. In rooms that sm
 ell and sound familiar\, around shared tables that belong to someone. Ofte
 n with people who started as strangers and ended the night as possible fri
 ends.</p><p>We'd like to welcome you to our first sensory exploration of c
 onnection: <strong><em>The Last Bite of Autumn.</em></strong> An intimate 
 candlelit gathering at dusk\, in the last weeks before winter pulls us all
  indoors. Fifteen seats. One long table. One evening.</p><p><br></p><p><st
 rong><u>Dress Code: Dressed for the Season — Smart Casual</u></strong></
 p><p>We're asking our guests to arrive in the colours of autumn. Shades of
  cream\, black\, burgundy\, and burnt orange.</p><p>Think textures that fe
 el good against your skin. Velvet\, wool\, silk\, linen. Layers you can se
 ttle into as the evening deepens and a scent that grounds you into this ti
 me of year.</p><p>Goethe believed that colour acts on the soul before it a
 cts on the eye. Dress for how you want to feel walking through the door. C
 omfortable enough to stay present\, and considered enough to mark the occa
 sion.</p><p><em>Come hungry.</em></p><p><em>Come curious.</em></p><p><em>C
 ome as you are.</em></p><p><em>Please note:</em> <em>MEnU has a strict no 
 phone policy. The aim is for everyone to connect unhurriedly and without t
 he pressure of capturing moments to share later. We ask all guests to resp
 ect this and remain present throughout the evening.</em></p><p><br></p><p>
 <br></p>
LOCATION:Ticket holders will be contacted to disclose venue
SUMMARY:MEnU: The Last Bite of Autumn
URL;VALUE=URI:https://www.howler.co.za/menusupperclubthelastbiteofautumn
END:VEVENT
END:VCALENDAR
