BEGIN:VCALENDAR
VERSION:2.0
PRODID:icalendar-ruby
CALSCALE:GREGORIAN
METHOD:PUBLISH
BEGIN:VEVENT
DTSTAMP:20260421T215620Z
UID:e20b112e-aef7-4fbc-b382-cbd36e926102
DTSTART:20260607T120000
DTEND:20260608T020000
DESCRIPTION:<p><span>Join us on </span><strong>Sunday\, 7 June 2026</strong
 ><span> at </span><strong>Maracana Sandton</strong><span> for another spec
 ial edition of </span><strong>First Sundays</strong><span>\,</span></p><p>
 <span>featuring a </span><strong><em>live performance</em></strong><strong
 > by MiCasa. </strong></p><p><br></p><p><span>Known for their Unforgettabl
 e sing along songs and incredible live energy\,</span></p><p><span>MiCasa 
 will be bringing the soundtrack to an afternoon and</span></p><p><span>eve
 ning of pure vibes in the heart of Sandton.</span></p><p><br></p><p><span>
 Expect </span><strong>great music\, a vibrant crowd\, and the signature Fi
 rst Sunday's atmosphere</strong></p><p><span>as one of South Africa’s mo
 st celebrated house acts takes the stage.</span></p><p><br></p><p><span>Fr
 om </span><strong>sunset grooves to late-night energy</strong><span>\, thi
 s is the perfect way to close out your weekend.</span></p><p><strong>Good 
 music. Good people. Great energy.</strong></p><p><br></p><p><span>Sandton\
 , we’ll see you there.</span></p><p><br></p><p><br></p>
LOCATION:58 Wierda Rd\, Wierda Valley\, Sandown\, Sandton
SUMMARY:Mi Casa | 7 June 26 | MARACANA SANDTON 
URL;VALUE=URI:https://www.howler.co.za/MiCasa7JuneMaracana
END:VEVENT
END:VCALENDAR
