BEGIN:VCALENDAR
VERSION:2.0
PRODID:icalendar-ruby
CALSCALE:GREGORIAN
METHOD:PUBLISH
BEGIN:VEVENT
DTSTAMP:20260422T004737Z
UID:ce7ef65e-39dd-4179-a6f6-5b32fb56d066
DTSTART:20260627T170000
DTEND:20260628T010000
DESCRIPTION:<p><br></p><p><strong>MONATE FAM</strong> we look forward to an
  exciting night at our annual <strong>MONATEVILLE</strong> <strong>WINTERW
 ONDERLAND</strong>\, taking place on <strong>27 June 2026</strong>.</p><p>
 <br></p><p>The event will feature a dynamic lineup of talented performers\
 , vibrant production\, and an unforgettable atmosphere.</p><p><br></p><p>D
 esigned to bring together music lovers from across the region\, the event 
 promises high-energy performances and a celebration of culture and communi
 ty.</p><p><br></p><p>Tickets are now available and early booking is encour
 aged.</p><p><br></p>
LOCATION:2 Kromhout St\, eMalahleni\, 1035
SUMMARY:Monateville
URL;VALUE=URI:https://www.howler.co.za/monateville
END:VEVENT
END:VCALENDAR
