BEGIN:VCALENDAR
VERSION:2.0
PRODID:icalendar-ruby
CALSCALE:GREGORIAN
METHOD:PUBLISH
BEGIN:VEVENT
DTSTAMP:20260421T135340Z
UID:77d92bea-52e5-46b1-8fee-cb2bcd4cdff4
DTSTART:20260516T190000
DTEND:20260516T235900
DESCRIPTION:<p>More than a competition\, Mr Gay World South-Africa is a <st
 rong>life-changing journey</strong> designed to empower individuals to bec
 ome advocates\, role models and compassionate leaders who actively contrib
 ute to improving the lives of others.</p><p>At its core\, the programme be
 lieves that true representation comes not from titles alone\, but from <st
 rong>service\, empathy and the willingness to uplift those who need it mos
 t.</strong></p><p><br></p><p><strong>Join your favourite finalist at a nig
 ht never to be forgotten\, where we will crown the next Mr Gay World South
 -Africa</strong></p><p><br></p>
LOCATION:Menlyn Park Shopping Centre\, Menlyn Park\, Pretoria
SUMMARY:Mr Gay World South-Africa 2026
URL;VALUE=URI:https://www.howler.co.za/mgwsa2026finale
END:VEVENT
END:VCALENDAR
