BEGIN:VCALENDAR
VERSION:2.0
PRODID:icalendar-ruby
CALSCALE:GREGORIAN
METHOD:PUBLISH
BEGIN:VEVENT
DTSTAMP:20260421T173150Z
UID:8e1c509f-c9ac-4a44-956c-5a6ad8a05450
DTSTART:20260529T180000
DTEND:20260530T020000
DESCRIPTION:<p class="ql-indent-1"><strong>NASTY C (LIVE) at Maracana Sandt
 on</strong></p><p class="ql-indent-1"><br></p><p class="ql-indent-1"><stro
 ng>Join us on Friday\, 29 May 2026 at Maracana Sandton for a high-energy n
 ight headlined by one of Africa’s biggest hip-hop exports\, Nasty C.</st
 rong></p><p class="ql-indent-1"><br></p><p class="ql-indent-1"><strong>Kno
 wn as <em>“The Coolest Kid in Africa”</em>\, Nasty C has taken South A
 frican hip-hop to the global stage\, delivering chart-topping hits\, inter
 national collaborations\, and electrifying live performances.</strong></p>
 <p class="ql-indent-1"><br></p><p class="ql-indent-1"><strong>Expect a nig
 ht packed with hard-hitting performances\, top-tier local talent\, and an 
 unmatched crowd energy as we bring together some of the best artists in th
 e game.</strong></p><p class="ql-indent-1"><br></p><p class="ql-indent-1">
 <strong>From early vibes to peak-time madness\, this is where Sandton meet
 s the sound of the culture.</strong></p><p class="ql-indent-1"><strong>Goo
 d music. Good people. Real energy.</strong></p><p class="ql-indent-1"><br>
 </p><p class="ql-indent-1"><strong>Sandton\, this one is not to be missed.
 </strong></p><p><br></p><p><br></p><p><br></p>
LOCATION:58 Wierda Rd\, Wierda Valley\, Sandown\, Sandton
SUMMARY:Nasty C | 29 May '26 | Maracana
URL;VALUE=URI:https://www.howler.co.za/NastyCMaracanaMay26
END:VEVENT
END:VCALENDAR
