BEGIN:VCALENDAR
VERSION:2.0
PRODID:icalendar-ruby
CALSCALE:GREGORIAN
METHOD:PUBLISH
BEGIN:VEVENT
DTSTAMP:20260422T053420Z
UID:1723fb2a-c0b0-426c-8501-7f3cf6778c4a
DTSTART:20260821T120000
DTEND:20260823T120000
DESCRIPTION:<h2>New Planet Zuka Run 2026</h2><p><br></p><h1>Africa’s Wild
 est Run</h1><p><br></p><p>This is not a trail next to a road.</p><p>This i
 s not a park run with views.</p><p>This is <strong>real Big 5 wilderness.<
 /strong></p><p>The <strong>New Planet Zuka Run</strong> is a once-a-year o
 pportunity to run deep inside a protected African game reserve — on anci
 ent wildlife paths\, through raw Zululand terrain\, in the heart of one of
  South Africa’s most celebrated conservation landscapes.</p><p>Hosted at
  <strong>Bayala Private Safari Lodge</strong>\, within <strong>Zuka Privat
 e Game Reserve</strong>\, part of the <strong>Munyawana Conservancy</stron
 g> (home to <strong>Phinda Private Game Reserve</strong>)\, this is trail 
 running in its most untamed form.</p><p>No fences.</p><p>No tar.</p><p>No 
 spectators lining the route.</p><p>Just you\, the dust\, and the wild.</p>
 <h2><br></h2><h2>🌍 The Setting</h2><p><br></p><p>Zululand is ancient.</
 p><p>Wide savannah plains. Fever tree forests. Dry riverbeds. Red soil cli
 mbs.</p><p>The Munyawana Conservancy is a protected Big 5 landscape — ho
 me to elephant\, rhino\, lion\, buffalo and leopard. This is a working con
 servation area\, not a theme park.</p><p>Every route is carefully managed 
 in partnership with rangers and conservation teams to ensure safety while 
 preserving the authenticity of the wilderness experience.</p><p><br></p><h
 2>🏃 The Run Experience</h2><p><br></p><p>• Multiple distance options 
 (exact routes announced closer to event)</p><p>• Technical trail section
 s shaped by wildlife\, not machines</p><p>• Rolling savannah\, bushveld 
 climbs and open plains</p><p>• Water points positioned in raw wilderness
  settings</p><p>• Professional safety\, medical and ranger support</p><p
 >You are not running around wildlife.</p><p>You are running through their 
 home.</p><p>The terrain is honest.</p><p>The climbs are real.</p><p>The re
 ward is unmatched.</p><p><br></p><h2>🦁 The Wild Factor</h2><p><br></p><
 p>This is what makes Zuka different from any other trail event in the worl
 d:</p><p>• Big 5 reserve access</p><p>• Ranger-controlled route window
 s</p><p>• No public access to these trails outside of this event</p><p>
 • Conservation-driven ethos</p><p>It is raw.</p><p>It is emotional.</p><
 p>It is deeply African.</p><p><br></p><h2>🏕️ The Weekend Experience</
 h2><p><br></p><p>Zuka Run is not just a race — it is a full wilderness w
 eekend.</p><p>Your stay at Bayala Private Safari Lodge includes:</p><p>•
  Beautiful lodge accommodation (2 nights)</p><p>• Curated brunches and d
 inners</p><p>• Sunset and sunrise game drives and sundowners</p><p>• P
 oolside recovery and social atmosphere</p><p>• Music\, connection and co
 mmunity</p><p><br></p><p>Run hard in the morning.</p><p>Recover with wildl
 ife and drinks in the day.</p><p>Share stories under African stars at nigh
 t while listening to live music and dancing away those sore legs.</p><p><b
 r></p>
LOCATION:Farm Versfeldt Bayala\, Hluhluwe
SUMMARY:New Planet Zuka Run 2026
URL;VALUE=URI:https://www.howler.co.za/ZukaRun26
END:VEVENT
END:VCALENDAR
