BEGIN:VCALENDAR
VERSION:2.0
PRODID:icalendar-ruby
CALSCALE:GREGORIAN
METHOD:PUBLISH
BEGIN:VEVENT
DTSTAMP:20260422T101832Z
UID:0e3e8573-80dd-45df-9262-bcb0f0a67c48
DTSTART:20261017T120000
DTEND:20261017T230000
DESCRIPTION:<p>“Sisemanzini 🌊 | One Day Experience”</p>
LOCATION:Wilson Wharf\, 3 Maritime Pl\, Durban Central\, Durban\, 4001
SUMMARY:October Kings
URL;VALUE=URI:https://www.howler.co.za/octoberkings
END:VEVENT
END:VCALENDAR
