BEGIN:VCALENDAR
VERSION:2.0
PRODID:icalendar-ruby
CALSCALE:GREGORIAN
METHOD:PUBLISH
BEGIN:VEVENT
DTSTAMP:20260422T072015Z
UID:63fd4dac-352f-4c6d-9e00-563eba526bca
DTSTART:20260905T150000
DTEND:20260905T190000
DESCRIPTION:<p>A sunset cruise like no other\, surrounded by the majestic M
 agaliesberg Mountains and the serene waters of Hartebeespoort Dam.</p><p><
 br></p><p>Enjoy great music\, delicious drinks\, and fantastic company whi
 le taking in the stunning views of the African sunset.</p><p><br></p><p>Do
 n't miss out on this incredible experience! Book your spot now and get rea
 dy for an unforgettable adventure</p><p><br></p><p>NB:Meals will be served
  on board.</p><p>NB : Cooler Box May Be Charged (Max R50 per box)</p><p><b
 r></p><p>Theme : Smart Casual -Warm Beige/Nude</p><p><br></p>
LOCATION:Simon Bekker Avenue\, Kosmos\, Hartbeespoort
SUMMARY:Ohana Sunset Cruise 
URL;VALUE=URI:https://www.howler.co.za/ohanacruise
END:VEVENT
END:VCALENDAR
