BEGIN:VCALENDAR
VERSION:2.0
PRODID:icalendar-ruby
CALSCALE:GREGORIAN
METHOD:PUBLISH
BEGIN:VEVENT
DTSTAMP:20260422T085144Z
UID:a66212fb-edde-430d-bdd3-1e811de6b10d
DTSTART:20260910T070000
DTEND:20260917T120000
DESCRIPTION:<p><span>The Old Mutual go2sea is a seven-day mountain bike sta
 ge ride through the heart of South Africa. Starting at Clarens in the East
 ern Free State and finishing in Ballito on the Dolphin Coast of KwaZulu Na
 tal\, it is an “off-road” show of everything that makes South Africa s
 o special: the people\, the places\, and the price of beer. It is an uplif
 ting challenging experience where the journey is more important than the d
 estination. Most just ride some race.</span></p>
LOCATION:Clarens Primary School\, Malherbe St\, Clarens\, 9707
SUMMARY:Old Mutual go2sea 2026
URL;VALUE=URI:https://www.howler.co.za/go2sea2026
END:VEVENT
END:VCALENDAR
