BEGIN:VCALENDAR
VERSION:2.0
PRODID:icalendar-ruby
CALSCALE:GREGORIAN
METHOD:PUBLISH
BEGIN:VEVENT
DTSTAMP:20260422T084722Z
UID:f988b4bb-8674-43c1-9c74-06407800b23c
DTSTART:20260926T120000
DTEND:20260926T230000
DESCRIPTION:<p>Old Skul Junkies is a lifestyle music experience created for
  true lovers of timeless sound\, mature vibes\, and good energy. The event
  is all about celebrating old-school music\, from classic house\, soul\, R
 &B\, kwaito\, and golden-era jams that bring back memories and keep the cu
 lture alive.</p><p>It’s not just a party — it’s a session. A space w
 here like-minded people come together to relax\, connect\, and enjoy quali
 ty music in a laid-back\, grown atmosphere. No rush\, no chaos — just re
 al music\, real people\, and real vibes.</p><p>Old Skul Junkies events are
  carefully curated\, often exclusive or limited\, to maintain an intimate 
 feel. Whether hosted by the river\, outdoors\, or at a stylish venue\, the
  focus is always on:</p><p><br></p><p>Proper sound</p><p>Authentic old-sch
 ool selections</p><p>A mature\, respectful crowd</p><p>Nostalgia mixed wit
 h fresh energy</p><p><br></p><p>If you’re someone who appreciates music 
 with history\, enjoys chilled social settings\, and values quality over hy
 pe\, Old Skul Junkies is your kind of movement.</p><p><br></p>
LOCATION:20 Minnaar street Wonderfontein Bardrifburg Sasolburg
SUMMARY:Old Skul Junkies Festival
URL;VALUE=URI:https://www.howler.co.za/oldskuljunkiesfest
END:VEVENT
END:VCALENDAR
