BEGIN:VCALENDAR
VERSION:2.0
PRODID:icalendar-ruby
CALSCALE:GREGORIAN
METHOD:PUBLISH
BEGIN:VEVENT
DTSTAMP:20260425T035728Z
UID:b66a30f2-0117-4f79-9a41-08d0392e11a6
DTSTART:20260425T130000
DTEND:20260425T180000
DESCRIPTION:<p><strong>One Long Table is not simply an event. It is a retur
 n to gathering.</strong></p><p><br></p><p><span>Born from the African trad
 ition of breaking bread together\, One Long Table is a curated dining expe
 rience designed to reconnect people\, to food\, to culture\, to conversati
 on\, and to one another.</span></p><p><br></p><p><span>In a world that mov
 es quickly\, we create intentional pauses.</span></p><p><br></p><p><span>A
 round one beautifully set table\, strangers become community\, stories are
  exchanged freely\, and celebration is experienced slowly\, through shared
  meals\, music\, and meaningful presence.</span></p><p><br></p><p><span>Ea
 ch gathering is thoughtfully curated to reflect African warmth\, storytell
 ing\, and contemporary luxury. Every detail\, from the setting to the soun
 dscape\, from the menu to the atmosphere\, is designed to feel intimate\, 
 welcoming\, and unforgettable.</span></p><p><br></p><p><span>One Long Tabl
 e exists because connection is sacred.</span></p><p><span>Because food tas
 tes better when shared.</span></p><p><span>Because celebration deserves in
 tention.</span></p><p><br></p><p><span>This is not a restaurant booking.</
 span></p><p><strong>This is taking a seat at the table.</strong></p><p><br
 ></p>
LOCATION:Johannesburg
SUMMARY:One Long Table - JHB April 2026 Edition
URL;VALUE=URI:https://www.howler.co.za/onelongtableblack2026
END:VEVENT
END:VCALENDAR
