BEGIN:VCALENDAR
VERSION:2.0
PRODID:icalendar-ruby
CALSCALE:GREGORIAN
METHOD:PUBLISH
BEGIN:VEVENT
DTSTAMP:20260425T103623Z
UID:58864d62-fc08-4ccd-abad-23f48447d78c
DTSTART:20260430T200000
DTEND:20260501T010000
DESCRIPTION:<p><span>Step into Our Groove — where the music hits deeper\,
  the energy feels endless\, and the dancefloor becomes your escape 🕺✨
 </span></p><p><br></p><p><span>Get ready for a night driven by pure house 
 rhythms with House Victimz\, Citizen Deep\, Shay & Baby Whitz bringing the
  heat all night long 🔥🎶</span></p><p><br></p><p><span>With the next 
 day being a public holiday\, there’s no holding back — this is your ex
 cuse to go all in and ride the groove till late 🍾💃</span></p><p><br>
 </p><p><span>Expect good vibes\, great people\, and nothing but quality mu
 sic in a space built for unforgettable moments 🌙🔊</span></p><p><br><
 /p><p><span>📍 Beerpark\, Bedfordview</span></p><p><span>📅 30th April
 </span></p><p><br></p><p><span>🎟️ Bookings via Howler</span></p><p><b
 r></p><p><br></p>
LOCATION:43 Van Buuren Road\, Bedfordview
SUMMARY:OUR GROOVE in Bedfordview
URL;VALUE=URI:https://www.howler.co.za/OGroove
END:VEVENT
END:VCALENDAR
