BEGIN:VCALENDAR
VERSION:2.0
PRODID:icalendar-ruby
CALSCALE:GREGORIAN
METHOD:PUBLISH
BEGIN:VEVENT
DTSTAMP:20260421T121525Z
UID:4395a325-cbc7-454a-b5db-fe7cca26699b
DTSTART:20260515T200000
DTEND:20260516T030000
DESCRIPTION:<p>Get ready to pop\, pour\, and party.</p><p> </p><p>Champagne
  House is opening its doors for a night you won’t forget. Whether you’
 re rolling through with the squad or making new ones on the dance floor 
 — this is THE spot to be on the 15th.</p><p><br></p><p>Expect good music
 \, great energy\, and an atmosphere that hits different from the moment yo
 u walk in. We’re talking wall-to-wall vibes\, ice-cold drinks\, and a cr
 owd that knows how to have a good time.</p><p><br></p><p>Come for the cham
 pagne. Stay for the night.</p>
LOCATION:9 Albertus St\, District Six\, Cape Town\, 7925
SUMMARY:Patio Parade
URL;VALUE=URI:https://www.howler.co.za/patioparade
END:VEVENT
END:VCALENDAR
