BEGIN:VCALENDAR
VERSION:2.0
PRODID:icalendar-ruby
CALSCALE:GREGORIAN
METHOD:PUBLISH
BEGIN:VEVENT
DTSTAMP:20260422T102015Z
UID:8ce62c9a-c3b6-4d22-b23a-9a7999e1d189
DTSTART:20261031T100000
DTEND:20261101T235900
DESCRIPTION:<p><span>The Phakama Mpumalanga Festival is a cultural explosio
 n of music\, fashion\, art\, and identity. Over two unforgettable days\, W
 hite River transforms into a living\, breathing showcase of local talent\,
  authentic storytelling\, and creative pride.</span></p><p><br></p><p><spa
 n>Following a successful introduction last year\, our camping village retu
 rns — inviting festival-goers to take the experience even further. Sleep
  under the Mpumalanga skies\, wake up to fresh energy\, and stay fully imm
 ersed in the spirit of Phakama from sunrise to sunset.</span></p><p><br></
 p><p><span>Expect a dynamic line-up of live performances from Mpumalanga
 ’s rising stars and headline acts\, cutting-edge fashion runways\, vibra
 nt art installations\, immersive exhibitions\, pop-up markets\, food\, dan
 ce\, poetry — and moments that move your soul.</span></p><p><br></p><p><
 br></p>
LOCATION:116 Montana Gardens\, White River\, Mpumalanga. RSA
SUMMARY:Phakama Mpumalanga Festival 2026
URL;VALUE=URI:https://www.howler.co.za/phakama2026
END:VEVENT
END:VCALENDAR
