BEGIN:VCALENDAR
VERSION:2.0
PRODID:icalendar-ruby
CALSCALE:GREGORIAN
METHOD:PUBLISH
BEGIN:VEVENT
DTSTAMP:20260425T035647Z
UID:b7da454f-1d2a-430d-908e-021e8ae67c36
DTSTART:20260425T134500
DTEND:20260425T180000
DESCRIPTION:
LOCATION:street name 
SUMMARY:Polo Exibition
URL;VALUE=URI:https://www.howler.co.za/events/polo-exibition-5e77
END:VEVENT
END:VCALENDAR
