BEGIN:VCALENDAR
VERSION:2.0
PRODID:icalendar-ruby
CALSCALE:GREGORIAN
METHOD:PUBLISH
BEGIN:VEVENT
DTSTAMP:20260424T083158Z
UID:4e769a3e-dbb2-4613-af47-4a0f50cc97a1
DTSTART:20250206T180000
DTEND:20250207T040000
DESCRIPTION:<p>POPULAR DEMAND - FIRST THURSDAY EDITION</p>
LOCATION:6 Gwen Lane &\, Fredman Dr\, Sandown\, 2031
SUMMARY:POPULAR DEMAND - FIRST THURSDAY
URL;VALUE=URI:https://www.howler.co.za/PD06FEB
END:VEVENT
END:VCALENDAR
