BEGIN:VCALENDAR
VERSION:2.0
PRODID:icalendar-ruby
CALSCALE:GREGORIAN
METHOD:PUBLISH
BEGIN:VEVENT
DTSTAMP:20260422T092332Z
UID:47e2d0a1-92aa-43cd-be16-11a676bb9155
DTSTART:20261001T120000
DTEND:20261005T120000
DESCRIPTION:<p><span>Psyshores A Journey of Music\, Art\, and Connection</s
 pan></p><p><br></p><p><span>Dive into the magic of Psyshores Festival\, a 
 vibrant celebration of music\, art\, and community set against the stunnin
 g oceanfront of Buffalo Bay. Our mission is to craft an unforgettable\, im
 mersive experience that sparks creativity\, fosters self-expression\, and 
 builds lasting connections\, all framed by the beauty of the sea.</span></
 p><p><br></p><p><span>A Beachfront Paradise</span></p><p><span>Nestled alo
 ng the pristine shores of Buffalo Bay\, Psyshores offers breathtaking ocea
 n views from every campsite. Wake to the rhythm of waves\, feel the ocean 
 breeze\, and drift off under a canopy of stars—an unparalleled setting f
 or a transformative weekend.</span></p><p><br></p><p><span>Camp in Comfort
 </span></p><p><span>Our campsites blend nature with convenience\, featurin
 g power points and braai facilities for a seamless experience. Fire up you
 r braai\, keep your devices charged\, and settle into the festival vibe wi
 th ease.</span></p><p><br></p><p><span>Refresh and Recharge</span></p><p><
 span>We’re committed to your comfort with clean\, modern facilities. Enj
 oy porcelain toilets and hot showers with stunning sea views\, ensuring a 
 refreshing and rejuvenating stay. Our team keeps the grounds pristine thro
 ughout the event.</span></p><p><br></p><p><span>Easy to Reach</span></p><p
 ><span>With accessible roads\, getting to Psyshores is a breeze. Arrive st
 ress-free and focus on soaking in the festival’s magic from the moment y
 ou set up camp.</span></p><p><br></p><p><span>Rooted in Passion\, Built fo
 r Connection</span></p><p><span>Since 2002\, we’ve been fueled by a love
  for Trance and the power of music to unite. Having explored global festiv
 als and collaborated with industry pioneers\, we’re bringing our vision 
 home to Buffalo Bay—the heart of the Garden of Eden. Psyshores is more t
 han a festival\; it’s a movement to inspire and connect.</span></p><p><s
 pan>A Multisensory Celebration</span></p><p><br></p><p><span>Music That Mo
 ves You: Our lineup features a dynamic mix of local and international arti
 sts\, spanning psychedelic rock to cutting-edge electronic beats. Immerse 
 yourself in state-of-the-art sound and visuals designed to transport you t
 o another realm.</span></p><p><br></p><p><span>Art That Inspires: Explore 
 interactive installations\, live painting\, and visual art exhibitions tha
 t ignite creativity and invite you to express yourself.</span></p><p><span
 >A Community That Welcomes All</span></p><p><span>Psyshores is a safe\, in
 clusive space where everyone can be their authentic self. Connect with kin
 dred spirits\, forge new friendships\, and grow within a supportive\, resp
 ectful community that celebrates diversity.</span></p><p><br></p><p><span>
 Sustainability at Heart</span></p><p><span>We’re dedicated to protecting
  the beauty of Buffalo Bay. Psyshores embraces eco-friendly practices\, mi
 nimizing waste and carbon emissions to ensure a greener festival experienc
 e.</span></p><p><br></p><p><span>Join the Journey</span></p><p><span>Psysh
 ores Festival 2026 promises a weekend of music\, art\, and connection that
  will leave you inspired. Secure your spot now and choose from a range of 
 ticket packages and accommodations to suit your vibe. </span></p><p><br><
 /p><p><span>Stay tuned on social media for lineup reveals\, updates\, and 
 exclusive behind-the-scenes content.</span></p><p><br></p><p><span>Note: T
 here will be no bar on-site. Under 18s must be accompanied by a parent or 
 guardian at all times.</span></p><p><br></p>
LOCATION:Buffelskop Caravan Park\, Knysna\, South African 
SUMMARY:Psyshores 2026
URL;VALUE=URI:https://www.howler.co.za/Psyshores2026
END:VEVENT
END:VCALENDAR
