BEGIN:VCALENDAR
VERSION:2.0
PRODID:icalendar-ruby
CALSCALE:GREGORIAN
METHOD:PUBLISH
BEGIN:VEVENT
DTSTAMP:20260424T170917Z
UID:24547fd3-5d0e-48a5-81c0-144af90bee9e
DTSTART:20251227T150000
DTEND:20251228T020000
DESCRIPTION:<p><span style="color: rgb(34\, 34\, 34)\;">This summer\, Golde
 n Hour welcomes internationally renowned artist </span><strong style="colo
 r: rgb(34\, 34\, 34)\;">Satori</strong><span style="color: rgb(34\, 34\, 3
 4)\;"> to Grand Africa Café & Beach for one unforgettable night.</span></
 p><p><span style="color: rgb(34\, 34\, 34)\;">Known for blending electroni
 c music with live performance\, Satori’s shows are never the same twice\
 , each one a unique journey that combines his productions with improvisati
 on on instruments like guitar\, keys\, and flute. His distinctive style ha
 s made him a fixture on stages from Coachella to Ibiza\, and now he brings
  that energy to Cape Town.</span></p><p><span style="color: rgb(34\, 34\, 
 34)\;">On 27 December\, join us at the water’s edge for an evening of wo
 rld-class sound\, immersive production\, and the unmistakable Golden Hour 
 spirit. This is one of the standout nights of the season - and you won’t
  want to miss it.</span></p>
LOCATION:V&A Waterfront\, Grand Africa Café & Beach\, Granger Bay 1 Haul R
 d\, Granger Bay Blvd
SUMMARY:Satori (live)
URL;VALUE=URI:https://www.howler.co.za/satorilive2025
END:VEVENT
END:VCALENDAR
