BEGIN:VCALENDAR
VERSION:2.0
PRODID:icalendar-ruby
CALSCALE:GREGORIAN
METHOD:PUBLISH
BEGIN:VEVENT
DTSTAMP:20260421T190126Z
UID:cc7d94e3-b383-4422-a238-ce6a65181250
DTSTART:20260530T100000
DTEND:20260530T180000
DESCRIPTION:<p>The Ultimate German Experience is BACK! The Deutsche Interna
 tionale Schule Johannesburg invites you to the 116th annual Schulbasar on 
 Saturday\, 30 May 2026 ! A wide variety of beers\, live performances on st
 age\, traditional German food and delicacies\, tea garden\, activities for
  children of all ages and so much more!</p>
LOCATION:11 Sans Souci Road\, Parktown
SUMMARY:Schulbasar 2026
URL;VALUE=URI:https://www.howler.co.za/schulbasar2026
END:VEVENT
END:VCALENDAR
